BEGIN:VCALENDAR
VERSION:2.0
PRODID:-//PTCondo.com - ECPv5.2.0//NONSGML v1.0//EN
CALSCALE:GREGORIAN
METHOD:PUBLISH
X-WR-CALNAME:PTCondo.com
X-ORIGINAL-URL:https://www.ptcondo.com
X-WR-CALDESC:Events for PTCondo.com
BEGIN:VTIMEZONE
TZID:America/Chicago
BEGIN:DAYLIGHT
TZOFFSETFROM:-0600
TZOFFSETTO:-0500
TZNAME:CDT
DTSTART:20210314T080000
END:DAYLIGHT
BEGIN:STANDARD
TZOFFSETFROM:-0500
TZOFFSETTO:-0600
TZNAME:CST
DTSTART:20211107T070000
END:STANDARD
END:VTIMEZONE
BEGIN:VEVENT
DTSTART;VALUE=DATE:20210326
DTEND;VALUE=DATE:20210327
DTSTAMP:20260424T074505
CREATED:20210312T203106Z
LAST-MODIFIED:20210312T203106Z
UID:16274-1616716800-1616803199@www.ptcondo.com
SUMMARY:Exterminator 19
DESCRIPTION:
URL:https://www.ptcondo.com/calendar/exterminator-19-3/
CATEGORIES:Exterminating
END:VEVENT
BEGIN:VEVENT
DTSTART;TZID=America/Chicago:20210326T080000
DTEND;TZID=America/Chicago:20210326T170000
DTSTAMP:20260424T074505
CREATED:20210319T150159Z
LAST-MODIFIED:20210319T150159Z
UID:16296-1616745600-1616778000@www.ptcondo.com
SUMMARY:Elevator Reserved 1 to 5pm
DESCRIPTION:
URL:https://www.ptcondo.com/calendar/elevator-reserved-1-to-5pm-212/
LOCATION:Service Elevator
CATEGORIES:Elevator Reservation
END:VEVENT
END:VCALENDAR